BEGIN:VCALENDAR
VERSION:2.0
BEGIN:VEVENT
PRODID:-//EventsAdmin//EN
UID:90c82412-e23b-4753-8363-cf172dc14356@eventsadmin.com
DTSTAMP:20260422T090813Z
TRANSP:TRANSPARENT
DTSTART:20190531T090000
DTEND:20190531T200000
SUMMARY;ENCODING=QUOTED-PRINTABLE:HOLISTIC LEADERSHIP
LOCATION;ENCODING=QUOTED-PRINTABLE:ΜΕΓΑΡΟΥ ΜΟΥΣΙΚΗΣ ΑΘΗΝΩΝ, αίθουσα «Δημήτρης Μητρόπουλος»
DESCRIPTION;ENCODING=QUOTED-PRINTABLE:Ο ΠΣΣΑΣ σε συνεργασία με την GAMA Hellas διοργανώνει εκπαιδευτικό συνέδριο στην αίθουσα «Δημήτρης Μητρόπουλος» του ΜΕΓΑΡΟΥ ΜΟΥΣΙΚΗΣ ΑΘΗΝΩΝ, με τίτλο "HOLISTIC LEADERSHIP - Agents &amp; Customers: a people-oriented emphasis on development" και με επίκεντρο τις νέες τάσεις και προκλήσεις στην Ασφαλιστική αγορά.=0D=0AMε κεντρικό θέμα “HOLISTIC LEADERSHIP – ΟΛΙΣΤΙΚΗ ΗΓΕΣΙΑ” και σημαντικό αριθμό έγκριτων εισηγητών από την Διεθνή και Ελληνική ασφαλιστική αγορά, ο ΠΣΣΑΣ σε συνεργασία με την GAMA Hellas διοργανώνει τ
END:VEVENT
END:VCALENDAR
